BEGIN:VCALENDAR
VERSION:2.0
PRODID:-//R-CALF USA - ECPv6.15.16//NONSGML v1.0//EN
CALSCALE:GREGORIAN
METHOD:PUBLISH
X-WR-CALNAME:R-CALF USA
X-ORIGINAL-URL:https://www.r-calfusa.com
X-WR-CALDESC:Events for R-CALF USA
REFRESH-INTERVAL;VALUE=DURATION:PT1H
X-Robots-Tag:noindex
X-PUBLISHED-TTL:PT1H
BEGIN:VTIMEZONE
TZID:America/Denver
BEGIN:DAYLIGHT
TZOFFSETFROM:-0700
TZOFFSETTO:-0600
TZNAME:MDT
DTSTART:20240310T090000
END:DAYLIGHT
BEGIN:STANDARD
TZOFFSETFROM:-0600
TZOFFSETTO:-0700
TZNAME:MST
DTSTART:20241103T080000
END:STANDARD
BEGIN:DAYLIGHT
TZOFFSETFROM:-0700
TZOFFSETTO:-0600
TZNAME:MDT
DTSTART:20250309T090000
END:DAYLIGHT
BEGIN:STANDARD
TZOFFSETFROM:-0600
TZOFFSETTO:-0700
TZNAME:MST
DTSTART:20251102T080000
END:STANDARD
BEGIN:DAYLIGHT
TZOFFSETFROM:-0700
TZOFFSETTO:-0600
TZNAME:MDT
DTSTART:20260308T090000
END:DAYLIGHT
BEGIN:STANDARD
TZOFFSETFROM:-0600
TZOFFSETTO:-0700
TZNAME:MST
DTSTART:20261101T080000
END:STANDARD
END:VTIMEZONE
BEGIN:VEVENT
DTSTART;TZID=America/Denver:20250913T160000
DTEND;TZID=America/Denver:20250913T200000
DTSTAMP:20260423T184748
CREATED:20250829T205338Z
LAST-MODIFIED:20250829T205717Z
UID:29345-1757779200-1757793600@www.r-calfusa.com
SUMMARY:ICOM Annual Meeting Sat.\, Sept. 13\, 2025
DESCRIPTION:What: Region Director\, Committee Chairs to Speak at ICOM Annual Meeting \nWhen: 4 p.m. CDT\, Sat.\, Sept. 13\, 2025 \nWhere: Midway Event Center\, 9915 U.S. Hwy. 160 E.\, Fairdealing\, MO 63939 \nContact: R-CALF USA Director and ICOM President Freddie Keaton\, (573) 247-1270 or 4keatons@gmail.com \n  \nDescription: The Independent Cattlemen of Missouri (ICOM)\, an R-CALF USA affiliate\, will host its annual meeting Saturday\, Sept. 13\, at the Midway Event Center in Fairdealing\, Missouri. \nThe business meeting will begin at 4 p.m.\, followed by dinner at 5:30 p.m. Guest speakers include R-CALF USA Private Property Rights Chair Shad Sullivan at 5:30 p.m.; R-CALF USA Animal Health Chair Max Thornsberry\, DVM\, at 6:30 p.m.; and ICOM President and R-CALF USA Region VI Director Freddie Keaton at 7 p.m. \nThe event will also feature remarks from U.S. Rep. Jason Smith\, R-Mo.\, along with a trade show\, social hour and live auction. \nThe meeting is open to the public. Please call or text (573) 247-1270 to RSVP by Sept. 10. \nLodging is available at the Holiday Inn Poplar Bluff. Call (573) 776-1200 to reserve a room. Rates begin at $114 per night\, plus tax. Ask for the “Independent Cattlemen of Missouri” rate. Reservations under the discounted rate must be made by Aug. 30. \n### \nRanchers Cattlemen Action Legal Fund United Stockgrowers of America (R-CALF USA) is the largest producer-only lobbying and trade association representing U.S. cattle and sheep producers. It is a national\, nonprofit organization dedicated to ensuring the continued profitability and viability of the U.S. cattle and sheep industries. For more information\, please visit www.r-calfusa.com or call (406) 252-2516.
URL:https://www.r-calfusa.com/event/icom-annual-meeting-sat-sept-13-2025/
CATEGORIES:Affiliate Conventions
END:VEVENT
BEGIN:VEVENT
DTSTART;TZID=America/Denver:20250924T110000
DTEND;TZID=America/Denver:20250924T143000
DTSTAMP:20260423T184748
CREATED:20250910T204449Z
LAST-MODIFIED:20250910T204505Z
UID:29423-1758711600-1758724200@www.r-calfusa.com
SUMMARY:Platte Livestock Market to Host Calf Sale
DESCRIPTION:What: Platte Livestock Market to Host Rollover Calf Sale for R-CALF USA \nWhen: 2 p.m. CDT\, Wed.\, Sept. 24\, 2025; BBQ starts at 11 a.m. \nWhere: Platte Livestock Market\, 36580 S.D. Highway 44\, Platte\, SD 57369 \nContact: Scott Kirsch\, Platte Livestock Market owner\, (605) 680-1900 or salebarn@midstatesd.net \n  \nDescription: Platte Livestock Market will host a rollover calf auction benefiting R-CALF USA at 2 p.m. Wednesday\, Sept. 24\, following a free barbeque lunch from 11 a.m. to 1 p.m. For the fourth year in a row\, James Fulwider and Kevin Talsma\, of Iona\, South Dakota\, will donate a yearling steer with all proceeds going to R-CALF USA. \nBrett Kenzy\, co-chair of R-CALF USA’s Checkoff Committee\, will speak about the organization’s ongoing efforts to address key issues affecting the profitability and viability of independent U.S. cattle producers. One of R-CALF USA’s top priorities is restoring mandatory country of origin labeling (MCOOL) for beef. The organization leads a national coalition of cattle\, farm\, rural and consumer groups working to reinstate MCOOL\, which requires retail beef to be labeled with the country or countries where the animal was born\, raised and harvested. \nWithout congressional action in the upcoming farm bill\, consumers have no way to know whether their beef comes from cattle raised in the United States or foreign imports. As a result\, they cannot choose to support American producers\, help strengthen the domestic beef supply or invest in the U.S. economy. The only beneficiaries of inaction on MCOOL are global meat importers. \nProducers and consumers are urged to call their members of Congress at 202-224-3121 and say: No Farm Bill Without MCOOL. For updates\, visit www.LabelOurBeef.com. \nRollover auctions are volunteer-led fundraisers where supporters bid on a donated calf\, then return it to be auctioned off again and again until bidding ends. The calf is then sold to the final high bidder. To contribute\, contact Scott Kirsch at (605) 680-1900 or salebarn@midstatesd.net\, or Candace Bullard at (406) 591-9009 or candacebullard@r-calfusa.com. \n### \nRanchers Cattlemen Action Legal Fund United Stockgrowers of America (R-CALF USA) is the largest producer-only lobbying and trade association representing U.S. cattle and sheep producers. It is a national\, nonprofit organization dedicated to ensuring the continued profitability and viability of the U.S. cattle and sheep industries. For more information\, visit www.r-calfusa.com or call (406) 252-2516.
URL:https://www.r-calfusa.com/event/platte-livestock-market-to-host-calf-sale/
CATEGORIES:Livestock Fundraisers
END:VEVENT
END:VCALENDAR