BEGIN:VCALENDAR
VERSION:2.0
PRODID:-//R-CALF USA - ECPv6.15.16//NONSGML v1.0//EN
CALSCALE:GREGORIAN
METHOD:PUBLISH
X-WR-CALNAME:R-CALF USA
X-ORIGINAL-URL:https://www.r-calfusa.com
X-WR-CALDESC:Events for R-CALF USA
REFRESH-INTERVAL;VALUE=DURATION:PT1H
X-Robots-Tag:noindex
X-PUBLISHED-TTL:PT1H
BEGIN:VTIMEZONE
TZID:America/Denver
BEGIN:DAYLIGHT
TZOFFSETFROM:-0700
TZOFFSETTO:-0600
TZNAME:MDT
DTSTART:20240310T090000
END:DAYLIGHT
BEGIN:STANDARD
TZOFFSETFROM:-0600
TZOFFSETTO:-0700
TZNAME:MST
DTSTART:20241103T080000
END:STANDARD
BEGIN:DAYLIGHT
TZOFFSETFROM:-0700
TZOFFSETTO:-0600
TZNAME:MDT
DTSTART:20250309T090000
END:DAYLIGHT
BEGIN:STANDARD
TZOFFSETFROM:-0600
TZOFFSETTO:-0700
TZNAME:MST
DTSTART:20251102T080000
END:STANDARD
BEGIN:DAYLIGHT
TZOFFSETFROM:-0700
TZOFFSETTO:-0600
TZNAME:MDT
DTSTART:20260308T090000
END:DAYLIGHT
BEGIN:STANDARD
TZOFFSETFROM:-0600
TZOFFSETTO:-0700
TZNAME:MST
DTSTART:20261101T080000
END:STANDARD
END:VTIMEZONE
BEGIN:VEVENT
DTSTART;VALUE=DATE:20251011
DTEND;VALUE=DATE:20251012
DTSTAMP:20260423T171322
CREATED:20250930T212003Z
LAST-MODIFIED:20250930T212018Z
UID:29519-1760140800-1760227199@www.r-calfusa.com
SUMMARY:CEO to Speak at ICOW Annual Meeting
DESCRIPTION:What: CEO to Speak at ICOW Annual Meeting \nWhen: Registration opens at 7:30 a.m. MDT\, Sat.\, Oct. 11; CEO to speak at 10:30 a.m. \nWhere: Central Wyoming College Rustler Ag and Equine Complex\, 1110 Day Drive\, Riverton\, WY 82501 \nContact: Judy McCullough\, R-CALF USA region II director and ICOW secretary\, (307) 756-3429 or jmccullough@collinscom.net \n  \nDescription: The Independent Cattlemen of Wyoming (ICOW)\, an R-CALF USA affiliate\, will hold its annual meeting Saturday\, Oct. 11\, at Central Wyoming College’s Rustler Ag and Equine Complex. \nR-CALF USA CEO Bill Bullard will speak at 10:30 a.m. The program will also feature Wyoming Secretary of State Chuck Gray; state Sen. Cheri Steinmetz; Wyoming Livestock Board Director and CEO Steve True; and economist and educator Mary-Mark Haggard. \nA business meeting and a tour of the Rustler Ag and Equine Complex are also planned. \nRegistration opens at 7:30 a.m. Lunch will be served at 11:45 a.m. \nThe cost is $40 for registration and $18.95 for lunch. Lodging is available at Wind River Hotel & Casino\, 180 Red Wolf Place\, Riverton. Call (307) 856-3964 and ask for the ICOW rate. \n### \nRanchers Cattlemen Action Legal Fund United Stockgrowers of America (R-CALF USA) is the largest producer-only lobbying and trade association representing U.S. cattle and sheep producers. It is a national\, nonprofit organization dedicated to ensuring the continued profitability and viability of the U.S. cattle and sheep industries. For more information\, please visit www.r-calfusa.com or call (406) 252-2516.
URL:https://www.r-calfusa.com/event/ceo-to-speak-at-icow-annual-meeting-2/
CATEGORIES:Affiliate Conventions
END:VEVENT
END:VCALENDAR